BEGIN:VCALENDAR
VERSION:2.0
PRODID:SG Member / Odoo / icalendar
BEGIN:VEVENT
SUMMARY:Udlandstur sommer 2028 - dato kommer senere
DTSTART;VALUE=DATE:20280701
DTEND;VALUE=DATE:20280731
DTSTAMP:20260422T081617Z
UID:26053@35ae5294-5f86-11ee-906c-0242ac19c003
LOCATION:FDF Landsdel 4
END:VEVENT
BEGIN:VEVENT
SUMMARY:Kredsledermøde i LD4
DTSTART:20270525T160000Z
DTEND:20270525T190000Z
DTSTAMP:20260422T081617Z
UID:19160@35ae5294-5f86-11ee-906c-0242ac19c003
LOCATION:FDF Landsdel 4
END:VEVENT
BEGIN:VEVENT
SUMMARY:Kredsledermøde maj 2027
DTSTART;VALUE=DATE:20270525
DTEND;VALUE=DATE:20270525
DTSTAMP:20260422T081617Z
UID:26052@35ae5294-5f86-11ee-906c-0242ac19c003
DESCRIPTION:\n\nMere info sendes pr. mail til kredslederne\n\n
LOCATION:FDF Landsdel 4
END:VEVENT
BEGIN:VEVENT
SUMMARY:Landsdelsmøde
DTSTART:20270222T180000Z
DTEND:20270222T200000Z
DTSTAMP:20260422T081617Z
UID:19159@35ae5294-5f86-11ee-906c-0242ac19c003
LOCATION:FDF Landsdel 4
END:VEVENT
BEGIN:VEVENT
SUMMARY:Landsdelsmøde FDF Landsdel 4
DTSTART;VALUE=DATE:20270222
DTEND;VALUE=DATE:20270222
DTSTAMP:20260422T081617Z
UID:26051@35ae5294-5f86-11ee-906c-0242ac19c003
LOCATION:FDF Landsdel 4
END:VEVENT
BEGIN:VEVENT
SUMMARY:Journalistøvelse Landsdel 4
DTSTART;VALUE=DATE:20261106
DTEND;VALUE=DATE:20261108
DTSTAMP:20260422T081617Z
UID:26046@35ae5294-5f86-11ee-906c-0242ac19c003
DESCRIPTION:For væbnere og op. Mere info kommer senere
LOCATION:FDF Landsdel 4
END:VEVENT
BEGIN:VEVENT
SUMMARY:Kredsledermøde i LD4
DTSTART:20261029T170000Z
DTEND:20261029T200000Z
DTSTAMP:20260422T081617Z
UID:19158@35ae5294-5f86-11ee-906c-0242ac19c003
LOCATION:FDF Landsdel 4
END:VEVENT
BEGIN:VEVENT
SUMMARY:Kredsledermøde okt 2026
DTSTART;VALUE=DATE:20261029
DTEND;VALUE=DATE:20261029
DTSTAMP:20260422T081617Z
UID:26050@35ae5294-5f86-11ee-906c-0242ac19c003
DESCRIPTION:\n\nMere info sendes pr. mail til kredslederne\n\n
LOCATION:FDF Landsdel 4
END:VEVENT
BEGIN:VEVENT
SUMMARY:Kredsledermøde i LD4
DTSTART:20260826T160000Z
DTEND:20260826T190000Z
DTSTAMP:20260422T081617Z
UID:19157@35ae5294-5f86-11ee-906c-0242ac19c003
LOCATION:FDF Landsdel 4
END:VEVENT
BEGIN:VEVENT
SUMMARY:Kredsledermøde august 2026
DTSTART;VALUE=DATE:20260826
DTEND;VALUE=DATE:20260826
DTSTAMP:20260422T081617Z
UID:26049@35ae5294-5f86-11ee-906c-0242ac19c003
DESCRIPTION:\n\nMere info sendes pr. mail til kredslederne\n\n
LOCATION:FDF Landsdel 4
END:VEVENT
BEGIN:VEVENT
SUMMARY:Kredsledermøde i LD4
DTSTART:20260526T160000Z
DTEND:20260526T190000Z
DTSTAMP:20260422T081617Z
UID:19156@35ae5294-5f86-11ee-906c-0242ac19c003
LOCATION:FDF Landsdel 4
END:VEVENT
BEGIN:VEVENT
SUMMARY:Kredsledermøde maj 2026
DTSTART;VALUE=DATE:20260526
DTEND;VALUE=DATE:20260526
DTSTAMP:20260422T081617Z
UID:26048@35ae5294-5f86-11ee-906c-0242ac19c003
DESCRIPTION:\n\nMere info sendes pr. mail til kredslederne\n\n
LOCATION:FDF Landsdel 4
END:VEVENT
BEGIN:VEVENT
SUMMARY:Lederuddannelsesdag\, FDF Landsdel 4
DTSTART:20260502T063000Z
DTEND:20260502T140000Z
DTSTAMP:20260422T081617Z
UID:18722@35ae5294-5f86-11ee-906c-0242ac19c003
DESCRIPTION:For arrangementet gælder Landsdelens samværsregler. 
LOCATION:Solbjergskolen\, Kærgårdsvej 4\, 8355 Solbjerg
END:VEVENT
BEGIN:VEVENT
SUMMARY:Sing in Horsens\, FDF Landsdel 4
DTSTART:20260422T160000Z
DTEND:20260422T180000Z
DTSTAMP:20260422T081617Z
UID:26045@35ae5294-5f86-11ee-906c-0242ac19c003
DESCRIPTION:Find din sangstemme frem\, pak dit største smil\, og tag hele
  kredsen med til en aften fyldt med musik\, fællesskab og (måske) lidt s
 kønsang! Vi har både klaver\, en dygtig sanger og sangtekster på storsk
 ærm\, så alle kan være med. Pausehygge:\nIngen sang uden lidt sødt til
  ganen! I pausen serverer vi saft\, kaffe og kanelgifler. Her er der mulig
 hed for\, at de yngste kan smutte hjem\, hvis dynen kalder.Musikalsk opvar
 mning:\nVi tyvstarter festen allerede kl. 17.45\, hvor FDF Horsens Musikkr
 eds giver den gas med en mini-koncert. Hvem kan være med?\nALLE! Uanset o
 m du er pusling\, leder\, forælder eller en del af bestyrelsen\, er du in
 viteret. Jo flere vi er\, desto bedre bliver fællesskabet – og des høj
 ere kan vi synge!Af hensyn til forplejning vil vi gerne have et ca.\ndelta
 gerantal (voksne og børn) senest en uge før (samlet for hele kredsen) vi
 a dette link.
LOCATION:Horsens (lokation kommer senere)
END:VEVENT
END:VCALENDAR
