BEGIN:VCALENDAR
VERSION:2.0
PRODID:SG Member / Odoo / icalendar
BEGIN:VEVENT
SUMMARY:Kredshuset udlånt til Kirsten
DTSTART:20260904T123000Z
DTEND:20260906T153000Z
DTSTAMP:20260422T121232Z
UID:31495@35ae5294-5f86-11ee-906c-0242ac19c003
DESCRIPTION:kirstenmatzen56@gmail.com
LOCATION:FDF Hjortshøj\, Virupvej 15\, 8530 Hjortshøj
END:VEVENT
BEGIN:VEVENT
SUMMARY:Malou låner kredshuset
DTSTART:20260828T123000Z
DTEND:20260828T163000Z
DTSTAMP:20260422T121232Z
UID:31510@35ae5294-5f86-11ee-906c-0242ac19c003
LOCATION:FDF Hjortshøj\, Virupvej 15\, 8530 Hjortshøj
END:VEVENT
BEGIN:VEVENT
SUMMARY:FDF Landslejr 2026
DTSTART;VALUE=DATE:20260709
DTEND;VALUE=DATE:20260717
DTSTAMP:20260422T121232Z
UID:18576@35ae5294-5f86-11ee-906c-0242ac19c003
DESCRIPTION:Tilmeld dig her: https://medlem.fdf.dk/event/id/6831/register
LOCATION:FDF Hjortshøj\, Virupvej 15\, 8530 Hjortshøj
END:VEVENT
BEGIN:VEVENT
SUMMARY:Årsmøde og sæsonafslutning
DTSTART:20260615T150000Z
DTEND:20260615T173000Z
DTSTAMP:20260422T121232Z
UID:20305@35ae5294-5f86-11ee-906c-0242ac19c003
LOCATION:FDF Hjortshøj\, Virupvej 15\, 8530 Hjortshøj
END:VEVENT
BEGIN:VEVENT
SUMMARY:Legens Dag
DTSTART:20260611T120000Z
DTEND:20260611T130000Z
DTSTAMP:20260422T121232Z
UID:20304@35ae5294-5f86-11ee-906c-0242ac19c003
LOCATION:FDF Hjortshøj\, Virupvej 15\, 8530 Hjortshøj
END:VEVENT
BEGIN:VEVENT
SUMMARY:Graffitimøde (bil eller plade i SV-rummet)
DTSTART:20260610T160000Z
DTEND:20260610T180000Z
DTSTAMP:20260422T121232Z
UID:20257@35ae5294-5f86-11ee-906c-0242ac19c003
LOCATION:FDF Hjortshøj\, Virupvej 15\, 8530 Hjortshøj
END:VEVENT
BEGIN:VEVENT
SUMMARY:Væbnermøde
DTSTART:20260610T160000Z
DTEND:20260610T180000Z
DTSTAMP:20260422T121232Z
UID:20214@35ae5294-5f86-11ee-906c-0242ac19c003
LOCATION:FDF Hjortshøj\, Virupvej 15\, 8530 Hjortshøj
END:VEVENT
BEGIN:VEVENT
SUMMARY:2. piltemøde
DTSTART:20260609T153000Z
DTEND:20260609T170000Z
DTSTAMP:20260422T121232Z
UID:20201@35ae5294-5f86-11ee-906c-0242ac19c003
LOCATION:FDF Hjortshøj\, Virupvej 15\, 8530 Hjortshøj
END:VEVENT
BEGIN:VEVENT
SUMMARY:1. piltemøde
DTSTART:20260609T153000Z
DTEND:20260609T170000Z
DTSTAMP:20260422T121232Z
UID:20158@35ae5294-5f86-11ee-906c-0242ac19c003
LOCATION:FDF Hjortshøj\, Virupvej 15\, 8530 Hjortshøj
END:VEVENT
BEGIN:VEVENT
SUMMARY:2. tumlingemøde
DTSTART:20260608T143000Z
DTEND:20260608T160000Z
DTSTAMP:20260422T121232Z
UID:20117@35ae5294-5f86-11ee-906c-0242ac19c003
LOCATION:FDF Hjortshøj\, Virupvej 15\, 8530 Hjortshøj
END:VEVENT
BEGIN:VEVENT
SUMMARY:Puslingemøde
DTSTART:20260608T143000Z
DTEND:20260608T160000Z
DTSTAMP:20260422T121232Z
UID:20031@35ae5294-5f86-11ee-906c-0242ac19c003
LOCATION:FDF Hjortshøj\, Virupvej 15\, 8530 Hjortshøj
END:VEVENT
BEGIN:VEVENT
SUMMARY:Vi laver one pot pasta på trangia
DTSTART:20260608T143000Z
DTEND:20260608T160000Z
DTSTAMP:20260422T121232Z
UID:20074@35ae5294-5f86-11ee-906c-0242ac19c003
LOCATION:FDF Hjortshøj\, Virupvej 15\, 8530 Hjortshøj
END:VEVENT
BEGIN:VEVENT
SUMMARY:Hyggemøde med Stine Aaris
DTSTART:20260603T160000Z
DTEND:20260603T180000Z
DTSTAMP:20260422T121232Z
UID:20260@35ae5294-5f86-11ee-906c-0242ac19c003
LOCATION:FDF Hjortshøj\, Virupvej 15\, 8530 Hjortshøj
END:VEVENT
BEGIN:VEVENT
SUMMARY:Væbnermøde
DTSTART:20260603T160000Z
DTEND:20260603T180000Z
DTSTAMP:20260422T121232Z
UID:20217@35ae5294-5f86-11ee-906c-0242ac19c003
LOCATION:FDF Hjortshøj\, Virupvej 15\, 8530 Hjortshøj
END:VEVENT
BEGIN:VEVENT
SUMMARY:1. piltemøde
DTSTART:20260602T153000Z
DTEND:20260602T170000Z
DTSTAMP:20260422T121232Z
UID:20144@35ae5294-5f86-11ee-906c-0242ac19c003
LOCATION:FDF Hjortshøj\, Virupvej 15\, 8530 Hjortshøj
END:VEVENT
BEGIN:VEVENT
SUMMARY:2. piltemøde
DTSTART:20260602T153000Z
DTEND:20260602T170000Z
DTSTAMP:20260422T121232Z
UID:20187@35ae5294-5f86-11ee-906c-0242ac19c003
LOCATION:FDF Hjortshøj\, Virupvej 15\, 8530 Hjortshøj
END:VEVENT
BEGIN:VEVENT
SUMMARY:Puslingemøde
DTSTART:20260601T143000Z
DTEND:20260601T160000Z
DTSTAMP:20260422T121232Z
UID:19993@35ae5294-5f86-11ee-906c-0242ac19c003
LOCATION:FDF Hjortshøj\, Virupvej 15\, 8530 Hjortshøj
END:VEVENT
BEGIN:VEVENT
SUMMARY:2. tumlingemøde
DTSTART:20260601T143000Z
DTEND:20260601T160000Z
DTSTAMP:20260422T121232Z
UID:20079@35ae5294-5f86-11ee-906c-0242ac19c003
LOCATION:FDF Hjortshøj\, Virupvej 15\, 8530 Hjortshøj
END:VEVENT
BEGIN:VEVENT
SUMMARY:Vi binder knob
DTSTART:20260601T143000Z
DTEND:20260601T160000Z
DTSTAMP:20260422T121232Z
UID:20036@35ae5294-5f86-11ee-906c-0242ac19c003
LOCATION:FDF Hjortshøj\, Virupvej 15\, 8530 Hjortshøj
END:VEVENT
BEGIN:VEVENT
SUMMARY:Udlånt til 3. klasse i Lystrup
DTSTART:20260530T110000Z
DTEND:20260531T120000Z
DTSTAMP:20260422T121232Z
UID:24895@35ae5294-5f86-11ee-906c-0242ac19c003
DESCRIPTION:ellenskammeritz@gmail.com
LOCATION:FDF Hjortshøj\, Virupvej 15\, 8530 Hjortshøj
END:VEVENT
BEGIN:VEVENT
SUMMARY:Væbnermøde
DTSTART:20260527T160000Z
DTEND:20260527T180000Z
DTSTAMP:20260422T121232Z
UID:20232@35ae5294-5f86-11ee-906c-0242ac19c003
LOCATION:FDF Hjortshøj\, Virupvej 15\, 8530 Hjortshøj
END:VEVENT
BEGIN:VEVENT
SUMMARY:Escape-room
DTSTART:20260527T160000Z
DTEND:20260527T180000Z
DTSTAMP:20260422T121232Z
UID:20275@35ae5294-5f86-11ee-906c-0242ac19c003
LOCATION:FDF Hjortshøj\, Virupvej 15\, 8530 Hjortshøj
END:VEVENT
BEGIN:VEVENT
SUMMARY:2. piltemøde
DTSTART:20260526T153000Z
DTEND:20260526T170000Z
DTSTAMP:20260422T121232Z
UID:20165@35ae5294-5f86-11ee-906c-0242ac19c003
LOCATION:FDF Hjortshøj\, Virupvej 15\, 8530 Hjortshøj
END:VEVENT
BEGIN:VEVENT
SUMMARY:1. piltemøde
DTSTART:20260526T153000Z
DTEND:20260526T170000Z
DTSTAMP:20260422T121232Z
UID:20122@35ae5294-5f86-11ee-906c-0242ac19c003
LOCATION:FDF Hjortshøj\, Virupvej 15\, 8530 Hjortshøj
END:VEVENT
BEGIN:VEVENT
SUMMARY:1. tumlingemøde
DTSTART:20260525T143000Z
DTEND:20260525T160000Z
DTSTAMP:20260422T121232Z
UID:20058@35ae5294-5f86-11ee-906c-0242ac19c003
LOCATION:FDF Hjortshøj\, Virupvej 15\, 8530 Hjortshøj
END:VEVENT
BEGIN:VEVENT
SUMMARY:2. tumlingemøde
DTSTART:20260525T143000Z
DTEND:20260525T160000Z
DTSTAMP:20260422T121232Z
UID:20101@35ae5294-5f86-11ee-906c-0242ac19c003
LOCATION:FDF Hjortshøj\, Virupvej 15\, 8530 Hjortshøj
END:VEVENT
BEGIN:VEVENT
SUMMARY:Puslingemøde
DTSTART:20260525T143000Z
DTEND:20260525T160000Z
DTSTAMP:20260422T121232Z
UID:20015@35ae5294-5f86-11ee-906c-0242ac19c003
LOCATION:FDF Hjortshøj\, Virupvej 15\, 8530 Hjortshøj
END:VEVENT
BEGIN:VEVENT
SUMMARY:Sommerlejr
DTSTART:20260522T150000Z
DTEND:20260525T083000Z
DTSTAMP:20260422T121232Z
UID:31362@35ae5294-5f86-11ee-906c-0242ac19c003
DESCRIPTION:Sommerlejr og FDFLige siden FDF startede i 1902\, har sommerle
 jren\, eller koloni som det hed dengang\, været en fast tradition for FDF
 .  Lidt stolt kan vi sige\, at det var FDF der opfandt sommerlejren. I st
 arten var det primært for at komme væk fra storbyen og ud i den friske n
 atur\, og for at være sammen med andre. Det har ændret sig lidt siden\, 
 men grundideen er stadig den samme:  At være sammen med en masse andre\,
  have det sjovt med hinanden\, vise hensyn og opleve glæden ved fællessk
 abet og sammenholdet. I FDF Hjortshøj tager vi på sommerlejr hvert år\,
  og vi er helt vilde med det.I år pakke vi taskerne og drager afsted på 
 lejr - vi skal stadig lave alt det andet fantastiske\, som hører til en s
 ommerlejr: Lejrbål\, underholdning\, sang &amp\; musik\, badning\, tut\, 
 tjanser\, tossede ledere\, glade børn\, leg &amp\; fantasi\, søde tanter
  &amp\; onkler og meget meget mere…På sommerlejr - måske for første g
 ang? Er det første gang dit barn skal afsted på sommerlejr eller vil du
  bare gerne vide lidt mere om lejren inden tilmelding\, så holder vi et i
 nformationsmøde om sommerlejren mandag den 27. april kl. 16.30. På vores
  hjemmeside kan du læse\, hvordan du bedst håndterer hjemve både før l
 ejren og mens vi er afsted.Vi har brug for hjælp for at skabe en god lejr
 Kan du lide glade børn? Kan du lide glade FDF-ledere?Kan du lide at grin
 e?Kan du lide lejrstemning?Kan du svare ja til nogle af ovenstående spør
 gsmål\, så er du måske en af tanterne/onklerne.At være tante/onkel er 
 en god oplevelse! Du kommer med dit barn på lejr på en fantastisk måde.
  Du både er der og er der ikke. Du oplever den positive lejr-stemning og 
 får lov at være en del af den: Morgenstemning\, gode snakke med lejrens 
 børn\, hygge og sjov med de andre voksne\, lejrbål og aftenhygge. Vi vil
  gerne invitere forældre med på to måder: Måske er du mest til det pra
 ktiske med hjælp i køkkenet\, men du er også velkommen\, hvis du gerne 
 vil være med til aktiviteter\, poster og løb sammen med deltagerne og al
 le de frivillige ledere. Ved tilmeldingen kan du krydse af\, hvilken ´typ
 e´ der er mest dig!Praktiske informationerAfrejseFredag den 22. maj kl. 1
 7.00 fra P-pladsen ved Stationen i Hjortshøj i bus.HjemkostLejren slutter
  mandag den 25. maj med afhentning på lejren kl. 10.30.AdresseDet Ny Slet
 tenBøgedalsvej 168680 RyPrisKr. 600\,-Priserne er fastlagt på baggrund a
 f tilskud fra Århus kommune.TilmeldingTilmelding foregår på via \nhttps
 ://medlem.fdf.dk/\nTilmeldingen er bindende og eventuelt afbud tilbagebeta
 les ikke.Tilmeldingsfristen er søndag den 15. maj.DeltagerbrevSøndag den
  15. maj udsender vi et deltagerbrev med praktiske informationer. Blandt a
 ndet pakkeliste.Spørgsmål vedr. lejrenKontakt Morten Springborgspringbor
 g@fdf.dk27 21 62 53\n\n\n
LOCATION:Det Ny Sletten\, Bøgedalsvej 16\, 8680 Ry
END:VEVENT
BEGIN:VEVENT
SUMMARY:Sommerlejr 2026
DTSTART;VALUE=DATE:20260522
DTEND;VALUE=DATE:20260525
DTSTAMP:20260422T121232Z
UID:18575@35ae5294-5f86-11ee-906c-0242ac19c003
LOCATION:FDF Hjortshøj\, Virupvej 15\, 8530 Hjortshøj
END:VEVENT
BEGIN:VEVENT
SUMMARY:Fuglemøde
DTSTART:20260520T160000Z
DTEND:20260520T180000Z
DTSTAMP:20260422T121232Z
UID:20270@35ae5294-5f86-11ee-906c-0242ac19c003
LOCATION:FDF Hjortshøj\, Virupvej 15\, 8530 Hjortshøj
END:VEVENT
BEGIN:VEVENT
SUMMARY:Væbnermøde
DTSTART:20260520T160000Z
DTEND:20260520T180000Z
DTSTAMP:20260422T121232Z
UID:20227@35ae5294-5f86-11ee-906c-0242ac19c003
LOCATION:FDF Hjortshøj\, Virupvej 15\, 8530 Hjortshøj
END:VEVENT
BEGIN:VEVENT
SUMMARY:2. piltemøde
DTSTART:20260519T153000Z
DTEND:20260519T170000Z
DTSTAMP:20260422T121232Z
UID:20202@35ae5294-5f86-11ee-906c-0242ac19c003
LOCATION:FDF Hjortshøj\, Virupvej 15\, 8530 Hjortshøj
END:VEVENT
BEGIN:VEVENT
SUMMARY:1. piltemøde
DTSTART:20260519T153000Z
DTEND:20260519T170000Z
DTSTAMP:20260422T121232Z
UID:20159@35ae5294-5f86-11ee-906c-0242ac19c003
LOCATION:FDF Hjortshøj\, Virupvej 15\, 8530 Hjortshøj
END:VEVENT
BEGIN:VEVENT
SUMMARY:2. tumlingemøde
DTSTART:20260518T143000Z
DTEND:20260518T160000Z
DTSTAMP:20260422T121232Z
UID:20093@35ae5294-5f86-11ee-906c-0242ac19c003
LOCATION:FDF Hjortshøj\, Virupvej 15\, 8530 Hjortshøj
END:VEVENT
BEGIN:VEVENT
SUMMARY:Dramamærket - Vi laver sketch
DTSTART:20260518T143000Z
DTEND:20260518T160000Z
DTSTAMP:20260422T121232Z
UID:20050@35ae5294-5f86-11ee-906c-0242ac19c003
LOCATION:FDF Hjortshøj\, Virupvej 15\, 8530 Hjortshøj
END:VEVENT
BEGIN:VEVENT
SUMMARY:Puslingemøde
DTSTART:20260518T143000Z
DTEND:20260518T160000Z
DTSTAMP:20260422T121232Z
UID:20007@35ae5294-5f86-11ee-906c-0242ac19c003
LOCATION:FDF Hjortshøj\, Virupvej 15\, 8530 Hjortshøj
END:VEVENT
BEGIN:VEVENT
SUMMARY:Væbnermøde
DTSTART:20260513T160000Z
DTEND:20260513T180000Z
DTSTAMP:20260422T121232Z
UID:20234@35ae5294-5f86-11ee-906c-0242ac19c003
LOCATION:FDF Hjortshøj\, Virupvej 15\, 8530 Hjortshøj
END:VEVENT
BEGIN:VEVENT
SUMMARY:Aphaca-møde
DTSTART:20260513T160000Z
DTEND:20260513T180000Z
DTSTAMP:20260422T121232Z
UID:20277@35ae5294-5f86-11ee-906c-0242ac19c003
LOCATION:FDF Hjortshøj\, Virupvej 15\, 8530 Hjortshøj
END:VEVENT
BEGIN:VEVENT
SUMMARY:2. piltemøde
DTSTART:20260512T153000Z
DTEND:20260512T170000Z
DTSTAMP:20260422T121232Z
UID:20190@35ae5294-5f86-11ee-906c-0242ac19c003
LOCATION:FDF Hjortshøj\, Virupvej 15\, 8530 Hjortshøj
END:VEVENT
BEGIN:VEVENT
SUMMARY:1. piltemøde
DTSTART:20260512T153000Z
DTEND:20260512T170000Z
DTSTAMP:20260422T121232Z
UID:20147@35ae5294-5f86-11ee-906c-0242ac19c003
LOCATION:FDF Hjortshøj\, Virupvej 15\, 8530 Hjortshøj
END:VEVENT
BEGIN:VEVENT
SUMMARY:Naturmærket - vi tager i skoven
DTSTART:20260511T143000Z
DTEND:20260511T160000Z
DTSTAMP:20260422T121232Z
UID:20062@35ae5294-5f86-11ee-906c-0242ac19c003
LOCATION:FDF Hjortshøj\, Virupvej 15\, 8530 Hjortshøj
END:VEVENT
BEGIN:VEVENT
SUMMARY:2. tumlingemøde
DTSTART:20260511T143000Z
DTEND:20260511T160000Z
DTSTAMP:20260422T121232Z
UID:20105@35ae5294-5f86-11ee-906c-0242ac19c003
LOCATION:FDF Hjortshøj\, Virupvej 15\, 8530 Hjortshøj
END:VEVENT
BEGIN:VEVENT
SUMMARY:Puslingemøde
DTSTART:20260511T143000Z
DTEND:20260511T160000Z
DTSTAMP:20260422T121232Z
UID:20019@35ae5294-5f86-11ee-906c-0242ac19c003
LOCATION:FDF Hjortshøj\, Virupvej 15\, 8530 Hjortshøj
END:VEVENT
BEGIN:VEVENT
SUMMARY:FamilieFDF
DTSTART:20260510T080000Z
DTEND:20260510T100000Z
DTSTAMP:20260422T121232Z
UID:27385@35ae5294-5f86-11ee-906c-0242ac19c003
LOCATION:FDF Hjortshøj\, Virupvej 15\, 8530 Hjortshøj
END:VEVENT
BEGIN:VEVENT
SUMMARY:Hverdagslejr
DTSTART:20260506T160000Z
DTEND:20260509T100000Z
DTSTAMP:20260422T121232Z
UID:20267@35ae5294-5f86-11ee-906c-0242ac19c003
LOCATION:FDF Hjortshøj\, Virupvej 15\, 8530 Hjortshøj
END:VEVENT
BEGIN:VEVENT
SUMMARY:Væbnermøde
DTSTART:20260506T160000Z
DTEND:20260506T180000Z
DTSTAMP:20260422T121232Z
UID:20224@35ae5294-5f86-11ee-906c-0242ac19c003
LOCATION:FDF Hjortshøj\, Virupvej 15\, 8530 Hjortshøj
END:VEVENT
BEGIN:VEVENT
SUMMARY:1. piltemøde
DTSTART:20260505T153000Z
DTEND:20260505T170000Z
DTSTAMP:20260422T121232Z
UID:20132@35ae5294-5f86-11ee-906c-0242ac19c003
LOCATION:FDF Hjortshøj\, Virupvej 15\, 8530 Hjortshøj
END:VEVENT
BEGIN:VEVENT
SUMMARY:2. piltemøde
DTSTART:20260505T153000Z
DTEND:20260505T170000Z
DTSTAMP:20260422T121232Z
UID:20175@35ae5294-5f86-11ee-906c-0242ac19c003
LOCATION:FDF Hjortshøj\, Virupvej 15\, 8530 Hjortshøj
END:VEVENT
BEGIN:VEVENT
SUMMARY:Puslingemøde
DTSTART:20260504T143000Z
DTEND:20260504T160000Z
DTSTAMP:20260422T121232Z
UID:20020@35ae5294-5f86-11ee-906c-0242ac19c003
LOCATION:FDF Hjortshøj\, Virupvej 15\, 8530 Hjortshøj
END:VEVENT
BEGIN:VEVENT
SUMMARY:2. tumlingemøde
DTSTART:20260504T143000Z
DTEND:20260504T160000Z
DTSTAMP:20260422T121232Z
UID:20106@35ae5294-5f86-11ee-906c-0242ac19c003
LOCATION:FDF Hjortshøj\, Virupvej 15\, 8530 Hjortshøj
END:VEVENT
BEGIN:VEVENT
SUMMARY:Naturmærket - Vi går til søen
DTSTART:20260504T143000Z
DTEND:20260504T160000Z
DTSTAMP:20260422T121232Z
UID:20063@35ae5294-5f86-11ee-906c-0242ac19c003
LOCATION:FDF Hjortshøj\, Virupvej 15\, 8530 Hjortshøj
END:VEVENT
BEGIN:VEVENT
SUMMARY:Væbnermøde
DTSTART:20260429T160000Z
DTEND:20260429T180000Z
DTSTAMP:20260422T121232Z
UID:20242@35ae5294-5f86-11ee-906c-0242ac19c003
LOCATION:FDF Hjortshøj\, Virupvej 15\, 8530 Hjortshøj
END:VEVENT
BEGIN:VEVENT
SUMMARY:Dyremøde
DTSTART:20260429T160000Z
DTEND:20260429T180000Z
DTSTAMP:20260422T121232Z
UID:20285@35ae5294-5f86-11ee-906c-0242ac19c003
LOCATION:FDF Hjortshøj\, Virupvej 15\, 8530 Hjortshøj
END:VEVENT
BEGIN:VEVENT
SUMMARY:2. piltemøde
DTSTART:20260428T153000Z
DTEND:20260428T170000Z
DTSTAMP:20260422T121232Z
UID:20176@35ae5294-5f86-11ee-906c-0242ac19c003
LOCATION:FDF Hjortshøj\, Virupvej 15\, 8530 Hjortshøj
END:VEVENT
BEGIN:VEVENT
SUMMARY:1. piltemøde
DTSTART:20260428T153000Z
DTEND:20260428T170000Z
DTSTAMP:20260422T121232Z
UID:20133@35ae5294-5f86-11ee-906c-0242ac19c003
LOCATION:FDF Hjortshøj\, Virupvej 15\, 8530 Hjortshøj
END:VEVENT
BEGIN:VEVENT
SUMMARY:Puslingemøde
DTSTART:20260427T143000Z
DTEND:20260427T160000Z
DTSTAMP:20260422T121232Z
UID:20017@35ae5294-5f86-11ee-906c-0242ac19c003
LOCATION:FDF Hjortshøj\, Virupvej 15\, 8530 Hjortshøj
END:VEVENT
BEGIN:VEVENT
SUMMARY:Vi lærer at tænde bål
DTSTART:20260427T143000Z
DTEND:20260427T160000Z
DTSTAMP:20260422T121232Z
UID:20060@35ae5294-5f86-11ee-906c-0242ac19c003
LOCATION:FDF Hjortshøj\, Virupvej 15\, 8530 Hjortshøj
END:VEVENT
BEGIN:VEVENT
SUMMARY:2. tumlingemøde
DTSTART:20260427T143000Z
DTEND:20260427T160000Z
DTSTAMP:20260422T121232Z
UID:20103@35ae5294-5f86-11ee-906c-0242ac19c003
LOCATION:FDF Hjortshøj\, Virupvej 15\, 8530 Hjortshøj
END:VEVENT
BEGIN:VEVENT
SUMMARY:Udlånt til Betina
DTSTART:20260425T103000Z
DTEND:20260426T140000Z
DTSTAMP:20260422T121232Z
UID:29361@35ae5294-5f86-11ee-906c-0242ac19c003
DESCRIPTION:betinaskjoedt@hotmail.com
LOCATION:FDF Hjortshøj\, Virupvej 15\, 8530 Hjortshøj
END:VEVENT
BEGIN:VEVENT
SUMMARY:Væbnermøde
DTSTART:20260422T160000Z
DTEND:20260422T180000Z
DTSTAMP:20260422T121232Z
UID:20247@35ae5294-5f86-11ee-906c-0242ac19c003
LOCATION:FDF Hjortshøj\, Virupvej 15\, 8530 Hjortshøj
END:VEVENT
BEGIN:VEVENT
SUMMARY:T-shirt tryk
DTSTART:20260422T160000Z
DTEND:20260422T180000Z
DTSTAMP:20260422T121232Z
UID:20290@35ae5294-5f86-11ee-906c-0242ac19c003
LOCATION:FDF Hjortshøj\, Virupvej 15\, 8530 Hjortshøj
END:VEVENT
END:VCALENDAR
