BEGIN:VCALENDAR
VERSION:2.0
PRODID:SG Member / Odoo / icalendar
BEGIN:VEVENT
SUMMARY:FDF Landslejr
DTSTART;VALUE=DATE:20260709
DTEND;VALUE=DATE:20260717
DTSTAMP:20260425T021209Z
UID:24791@35ae5294-5f86-11ee-906c-0242ac19c003
LOCATION:FDF Hasle-Åbyhøj\, Åbyhøjvej 4\, Hasle\, 8210 Aarhus V
END:VEVENT
BEGIN:VEVENT
SUMMARY:Intet møde sommerferie
DTSTART:20260630T170000Z
DTEND:20260630T183000Z
DTSTAMP:20260425T021209Z
UID:24797@35ae5294-5f86-11ee-906c-0242ac19c003
LOCATION:FDF Hasle-Åbyhøj\, Åbyhøjvej 4\, Hasle\, 8210 Aarhus V
END:VEVENT
BEGIN:VEVENT
SUMMARY:Sommerafslutning
DTSTART:20260623T170000Z
DTEND:20260623T183000Z
DTSTAMP:20260425T021209Z
UID:24798@35ae5294-5f86-11ee-906c-0242ac19c003
LOCATION:FDF Hasle-Åbyhøj\, Åbyhøjvej 4\, Hasle\, 8210 Aarhus V
END:VEVENT
BEGIN:VEVENT
SUMMARY:Strandtur
DTSTART:20260616T170000Z
DTEND:20260616T183000Z
DTSTAMP:20260425T021209Z
UID:24815@35ae5294-5f86-11ee-906c-0242ac19c003
LOCATION:Varna Palæet\, Ørneredevej 3\, 8000 Aarhus C
END:VEVENT
BEGIN:VEVENT
SUMMARY:En dyst
DTSTART:20260609T170000Z
DTEND:20260609T183000Z
DTSTAMP:20260425T021209Z
UID:24802@35ae5294-5f86-11ee-906c-0242ac19c003
LOCATION:FDF Parken\, Klokkerbakken 77\, Hasle\, 8210 Aarhus V
END:VEVENT
BEGIN:VEVENT
SUMMARY:Piltemøde
DTSTART:20260609T164500Z
DTEND:20260609T180000Z
DTSTAMP:20260425T021209Z
UID:31604@35ae5294-5f86-11ee-906c-0242ac19c003
LOCATION:Klokkerparken\, Klokkerbakken 94\, Hasle\, 8210 Aarhus V
END:VEVENT
BEGIN:VEVENT
SUMMARY:Den sore vandkamp
DTSTART:20260609T143000Z
DTEND:20260609T154500Z
DTSTAMP:20260425T021209Z
UID:31595@35ae5294-5f86-11ee-906c-0242ac19c003
LOCATION:Klokkerparken\, Klokkerbakken 94\, Hasle\, 8210 Aarhus V
END:VEVENT
BEGIN:VEVENT
SUMMARY:Familie FDF
DTSTART:20260607T080000Z
DTEND:20260607T100000Z
DTSTAMP:20260425T021209Z
UID:28988@35ae5294-5f86-11ee-906c-0242ac19c003
LOCATION:FDF Hasle-Åbyhøj\, Åbyhøjvej 4\, Hasle\, 8210 Aarhus V
END:VEVENT
BEGIN:VEVENT
SUMMARY:Busløb
DTSTART:20260602T170000Z
DTEND:20260602T183000Z
DTSTAMP:20260425T021209Z
UID:24811@35ae5294-5f86-11ee-906c-0242ac19c003
LOCATION:FDF Hasle-Åbyhøj\, Åbyhøjvej 4\, Hasle\, 8210 Aarhus V
END:VEVENT
BEGIN:VEVENT
SUMMARY:Piltemøde
DTSTART:20260602T164500Z
DTEND:20260602T180000Z
DTSTAMP:20260425T021209Z
UID:31600@35ae5294-5f86-11ee-906c-0242ac19c003
LOCATION:Klokkerparken\, Klokkerbakken 94\, Hasle\, 8210 Aarhus V
END:VEVENT
BEGIN:VEVENT
SUMMARY:Kort løb
DTSTART:20260602T143000Z
DTEND:20260602T154500Z
DTSTAMP:20260425T021209Z
UID:31598@35ae5294-5f86-11ee-906c-0242ac19c003
LOCATION:Klokkerparken\, Klokkerbakken 94\, Hasle\, 8210 Aarhus V
END:VEVENT
BEGIN:VEVENT
SUMMARY:Piltemøde
DTSTART:20260526T164500Z
DTEND:20260526T180000Z
DTSTAMP:20260425T021209Z
UID:31607@35ae5294-5f86-11ee-906c-0242ac19c003
LOCATION:Klokkerparken\, Klokkerbakken 94\, Hasle\, 8210 Aarhus V
END:VEVENT
BEGIN:VEVENT
SUMMARY:Træ i trek
DTSTART:20260526T164500Z
DTEND:20260526T183000Z
DTSTAMP:20260425T021209Z
UID:24814@35ae5294-5f86-11ee-906c-0242ac19c003
LOCATION:FDF Hasle-Åbyhøj\, Åbyhøjvej 4\, Hasle\, 8210 Aarhus V
END:VEVENT
BEGIN:VEVENT
SUMMARY:Det store lege møde
DTSTART:20260526T143000Z
DTEND:20260526T154500Z
DTSTAMP:20260425T021209Z
UID:31594@35ae5294-5f86-11ee-906c-0242ac19c003
LOCATION:Klokkerparken\, Klokkerbakken 94\, Hasle\, 8210 Aarhus V
END:VEVENT
BEGIN:VEVENT
SUMMARY:Piltemøde
DTSTART:20260519T164500Z
DTEND:20260519T180000Z
DTSTAMP:20260425T021209Z
UID:31602@35ae5294-5f86-11ee-906c-0242ac19c003
LOCATION:Klokkerparken\, Klokkerbakken 94\, Hasle\, 8210 Aarhus V
END:VEVENT
BEGIN:VEVENT
SUMMARY:Tre i træk
DTSTART:20260519T164500Z
DTEND:20260519T183000Z
DTSTAMP:20260425T021209Z
UID:24800@35ae5294-5f86-11ee-906c-0242ac19c003
LOCATION:FDF Hasle-Åbyhøj\, Åbyhøjvej 4\, Hasle\, 8210 Aarhus V
END:VEVENT
BEGIN:VEVENT
SUMMARY:Cirkel løb
DTSTART:20260519T143000Z
DTEND:20260519T154500Z
DTSTAMP:20260425T021209Z
UID:31593@35ae5294-5f86-11ee-906c-0242ac19c003
LOCATION:Klokkerparken\, Klokkerbakken 94\, Hasle\, 8210 Aarhus V
END:VEVENT
BEGIN:VEVENT
SUMMARY:seniorer i Skotland eller Skanderborg
DTSTART:20260514T070000Z
DTEND:20260517T140000Z
DTSTAMP:20260425T021209Z
UID:31611@35ae5294-5f86-11ee-906c-0242ac19c003
DESCRIPTION:Vi tilbyder en overraskelsesrejse for seniorer i Himmelfartswe
 ekenden! Vi har søgt om støtte til en tur til Skotland\, hvor vi skal va
 ndre i Highlands omkring Glen Nevis. Dette sker i samarbejde med Boys’ B
 rigade Scotland og de grupper\, vi mødte under VM sidste år. Vi har søg
 t støtte hos fire forskellige fonde for at få prisen ned på 1.500 kr. T
 o fonde har givet os den støtte\, vi har brug for\, men vi finder først 
 ud af\, om vi får støtte fra de to andre fonde to uger før afrejse! Vi 
 har kun brug for én af fondene for at gøre turen mulig. \n\nHvis vi ikk
 e modtager støtte fra nogen af fondene\, vil vi sætte vores nødplan i v
 ærk\, som går ud på at tage på vandretur et sted i Danmark og forsøge
  at finde den sværfangne »guldbål-perle« – det er mysteriet! Det vil
  koste mindre\, og forskellen vil blive refunderet.\n\n"Walk and talk"-akt
 iviteten i Skotland vil have et program\, der fokuserer på unges mentale 
 sundhed og hjælper unge med at identificere og sætte ord på deres føle
 lser\, mens de udforsker den fantastiske natur. Vi tager afsted torsdag m
 orgen den 14. maj fra Aarhus for at nå et fly fra København til Edinburg
 h\, hvorfra vi kører i minibusser til Highlands. Vi camperer i telte stil
 let til rådighed af BB Scotland ved foden af Ben Nevis (Skotlands højest
 e bjerg). Vi vil tage på rundvandringer med forskellige ruter\, varierend
 e sværhedsgrad og med temaforedrag og opgaver. Vi vender tilbage til Aar
 hus søndag eftermiddag den 17. maj. Vi håber at få seniorerne til at t
 ilmelde sig i løbet af de næste par uger\, så vi har en klar deltagerli
 ste i begyndelsen af maj\, så vi kan bestille flybilletterne og visa med 
 det samme\, hvis vi får finansieringen. Skotland eller Skanderborg fra d
 en 14. til den 17. maj bliver nogle spændende dage sammen\, hvis seniorer
 ne er villige til at omfavne mysteriet!Seniorer skal have et gyldigt pas.\
 n\n 
LOCATION:Aarhus H
END:VEVENT
BEGIN:VEVENT
SUMMARY:Sommerlejr
DTSTART:20260513T143000Z
DTEND:20260517T121500Z
DTSTAMP:20260425T021209Z
UID:28220@35ae5294-5f86-11ee-906c-0242ac19c003
LOCATION:FDF Hasle-Åbyhøj\, Åbyhøjvej 4\, Hasle\, 8210 Aarhus V
END:VEVENT
BEGIN:VEVENT
SUMMARY:Tre i træk
DTSTART:20260512T164500Z
DTEND:20260512T183000Z
DTSTAMP:20260425T021209Z
UID:24793@35ae5294-5f86-11ee-906c-0242ac19c003
LOCATION:FDF Hasle-Åbyhøj\, Åbyhøjvej 4\, Hasle\, 8210 Aarhus V
END:VEVENT
BEGIN:VEVENT
SUMMARY:Piltemøde
DTSTART:20260512T164500Z
DTEND:20260512T180000Z
DTSTAMP:20260425T021209Z
UID:31605@35ae5294-5f86-11ee-906c-0242ac19c003
LOCATION:Klokkerparken\, Klokkerbakken 94\, Hasle\, 8210 Aarhus V
END:VEVENT
BEGIN:VEVENT
SUMMARY:Modstandsløb a la 1945
DTSTART:20260505T170000Z
DTEND:20260505T183000Z
DTSTAMP:20260425T021209Z
UID:24816@35ae5294-5f86-11ee-906c-0242ac19c003
LOCATION:FDF Parken\, Klokkerbakken 77\, Hasle\, 8210 Aarhus V
END:VEVENT
BEGIN:VEVENT
SUMMARY:Piltemøde
DTSTART:20260505T164500Z
DTEND:20260505T180000Z
DTSTAMP:20260425T021209Z
UID:31601@35ae5294-5f86-11ee-906c-0242ac19c003
LOCATION:Klokkerparken\, Klokkerbakken 94\, Hasle\, 8210 Aarhus V
END:VEVENT
BEGIN:VEVENT
SUMMARY:4 dobbelt Fødselsdag
DTSTART:20260505T143000Z
DTEND:20260505T154500Z
DTSTAMP:20260425T021209Z
UID:31592@35ae5294-5f86-11ee-906c-0242ac19c003
LOCATION:Klokkerparken\, Klokkerbakken 94\, Hasle\, 8210 Aarhus V
END:VEVENT
BEGIN:VEVENT
SUMMARY:Familie FDF
DTSTART:20260503T080000Z
DTEND:20260503T100000Z
DTSTAMP:20260425T021209Z
UID:28990@35ae5294-5f86-11ee-906c-0242ac19c003
LOCATION:FDF Hasle-Åbyhøj\, Åbyhøjvej 4\, Hasle\, 8210 Aarhus V
END:VEVENT
BEGIN:VEVENT
SUMMARY:Reb og rafter
DTSTART:20260428T170000Z
DTEND:20260428T183000Z
DTSTAMP:20260425T021209Z
UID:24801@35ae5294-5f86-11ee-906c-0242ac19c003
LOCATION:Komforbi\, Åbyhøjvej 4\, Hasle\, 8210 Aarhus V
END:VEVENT
BEGIN:VEVENT
SUMMARY:Piltemøde
DTSTART:20260428T164500Z
DTEND:20260428T180000Z
DTSTAMP:20260425T021209Z
UID:31603@35ae5294-5f86-11ee-906c-0242ac19c003
LOCATION:Klokkerparken\, Klokkerbakken 94\, Hasle\, 8210 Aarhus V
END:VEVENT
BEGIN:VEVENT
SUMMARY:Natur fan mærke del 2.
DTSTART:20260428T143000Z
DTEND:20260428T154500Z
DTSTAMP:20260425T021209Z
UID:31597@35ae5294-5f86-11ee-906c-0242ac19c003
LOCATION:Klokkerparken\, Klokkerbakken 94\, Hasle\, 8210 Aarhus V
END:VEVENT
END:VCALENDAR
