BEGIN:VCALENDAR
VERSION:2.0
PRODID:SG Member / Odoo / icalendar
BEGIN:VEVENT
SUMMARY:Klatredag
DTSTART:20260509T090000Z
DTEND:20260509T150000Z
DTSTAMP:20260421T191544Z
UID:31678@35ae5294-5f86-11ee-906c-0242ac19c003
DESCRIPTION:Kalder alle pilte og væbnere i FDF Ørestad!Vejret er langt o
 m længe bliver bedre\, og det vil vi gerne fejre ved at invitere jer sam
 t jeres forældre og søskende til FDF Ørestads første klatredag. Dagen
  kommer til at byde på både konkurrencer\, leg og selvfølgelig trækla
 tring.Det kommer til at foregå Lørdag d. 9. maj kl. 11.00 i Travbanepark
 en\, Tårnby. Vi regner med at være færdige igen kl. 17.00. På dagen k
 ommer vi til at sætte flere klatreaktiviteter op i træerne\, så om man 
 vil helt til tops\, eller bare op til første gren\, så vil der være nog
 et for alle. Til dem på jorden finder vi hyggelige havespil frem. Omkring
  kl. 12.30 spiser vi sammen madpakker.Bemærk: Klatring er en aktivitet de
 r kræver at vi ledere er konstant bundet til en tidskrævende aktivitet. 
 Derfor er dagen tiltænkt som en familieaktivitet\, hvor man selv er ansva
 rlig for underholdning på jorden.PS: Som en del af aftalen med Tårnby ko
 mmune har vi lovet at informere naboer om arrangementet. Vi skal nok skriv
 e og printe sedler\, men vi kunne bruge hjælp til at dele dem ud :D Det d
 rejer sig om ca. 20 huse\, hvor der skal lægges en seddel i deres postka
 sse 5 dage inden arrangementet.Pris 75 kr. pr. familie.Se billedet hvor v
 i har markeret hvor vi mødes.
LOCATION:FDF Ørestad\, Robert Jacobsens Vej 66A\, st.\, 2300 København S
END:VEVENT
END:VCALENDAR
