BEGIN:VCALENDAR
VERSION:2.0
PRODID:SG Member / Odoo / icalendar
BEGIN:VEVENT
SUMMARY:Sommertogtet - Sommerlejr 2026
DTSTART;VALUE=DATE:20260731
DTEND;VALUE=DATE:20260807
DTSTAMP:20260420T111740Z
UID:31361@35ae5294-5f86-11ee-906c-0242ac19c003
DESCRIPTION:Ohøj pirater!Vi stævner ud på Sommertogt og turen går til 
 Marielyst\, hvor vi sammen skal have en sjov og hyggelig uge.De nærmere o
 plysninger om påmønstring\, hvad du skal medbringe i dine pakkenellikker
  og afmønstring kommer efter tilmeldingsfrist.Tilmeldingsfrist er d. 31/0
 5.Pris for hele togtet er 700 kr. der inkludere både mad\, overnatning og
  lommepenge.
LOCATION:FDF Eskilstrup\, Poppelvej 1A\, 4863 Eskilstrup
END:VEVENT
BEGIN:VEVENT
SUMMARY:Sommerafslutning for hele kredsen
DTSTART;VALUE=DATE:20260617
DTEND;VALUE=DATE:20260617
DTSTAMP:20260420T111740Z
UID:27413@35ae5294-5f86-11ee-906c-0242ac19c003
DESCRIPTION:Mere info følger.
LOCATION:FDF Eskilstrup\, Poppelvej 1A\, 4863 Eskilstrup
END:VEVENT
BEGIN:VEVENT
SUMMARY:Kredsmøde - Spirer i Tanzania
DTSTART:20260610T143000Z
DTEND:20260610T160000Z
DTSTAMP:20260420T111740Z
UID:27402@35ae5294-5f86-11ee-906c-0242ac19c003
LOCATION:FDF Eskilstrup\, Poppelvej 1A\, 4863 Eskilstrup
END:VEVENT
BEGIN:VEVENT
SUMMARY:Surprise
DTSTART:20260603T143000Z
DTEND:20260603T160000Z
DTSTAMP:20260420T111740Z
UID:27396@35ae5294-5f86-11ee-906c-0242ac19c003
LOCATION:FDF Eskilstrup\, Poppelvej 1A\, 4863 Eskilstrup
END:VEVENT
BEGIN:VEVENT
SUMMARY:Kredsweekend
DTSTART;VALUE=DATE:20260529
DTEND;VALUE=DATE:20260531
DTSTAMP:20260420T111740Z
UID:27417@35ae5294-5f86-11ee-906c-0242ac19c003
DESCRIPTION:Mere info følger.
LOCATION:FDF Eskilstrup\, Poppelvej 1A\, 4863 Eskilstrup
END:VEVENT
BEGIN:VEVENT
SUMMARY:Naturfan
DTSTART:20260527T143000Z
DTEND:20260527T160000Z
DTSTAMP:20260420T111740Z
UID:27399@35ae5294-5f86-11ee-906c-0242ac19c003
LOCATION:FDF Eskilstrup\, Poppelvej 1A\, 4863 Eskilstrup
END:VEVENT
BEGIN:VEVENT
SUMMARY:Madlavningsmøde
DTSTART:20260520T143000Z
DTEND:20260520T160000Z
DTSTAMP:20260420T111740Z
UID:27391@35ae5294-5f86-11ee-906c-0242ac19c003
LOCATION:FDF Eskilstrup\, Poppelvej 1A\, 4863 Eskilstrup
END:VEVENT
BEGIN:VEVENT
SUMMARY:Naturfan
DTSTART:20260513T143000Z
DTEND:20260513T160000Z
DTSTAMP:20260420T111740Z
UID:27393@35ae5294-5f86-11ee-906c-0242ac19c003
LOCATION:FDF Eskilstrup\, Poppelvej 1A\, 4863 Eskilstrup
END:VEVENT
BEGIN:VEVENT
SUMMARY:Arbejdsdag 2026
DTSTART;VALUE=DATE:20260509
DTEND;VALUE=DATE:20260509
DTSTAMP:20260420T111740Z
UID:27416@35ae5294-5f86-11ee-906c-0242ac19c003
DESCRIPTION:Mere info følger.
LOCATION:FDF Eskilstrup\, Poppelvej 1A\, 4863 Eskilstrup
END:VEVENT
BEGIN:VEVENT
SUMMARY:Surprise
DTSTART:20260506T143000Z
DTEND:20260506T160000Z
DTSTAMP:20260420T111740Z
UID:27403@35ae5294-5f86-11ee-906c-0242ac19c003
LOCATION:FDF Eskilstrup\, Poppelvej 1A\, 4863 Eskilstrup
END:VEVENT
BEGIN:VEVENT
SUMMARY:Kredsmøde - Spirer i Tanzania
DTSTART:20260429T143000Z
DTEND:20260429T160000Z
DTSTAMP:20260420T111740Z
UID:27407@35ae5294-5f86-11ee-906c-0242ac19c003
LOCATION:FDF Eskilstrup\, Poppelvej 1A\, 4863 Eskilstrup
END:VEVENT
BEGIN:VEVENT
SUMMARY:Naturfan
DTSTART:20260422T143000Z
DTEND:20260422T160000Z
DTSTAMP:20260420T111740Z
UID:27397@35ae5294-5f86-11ee-906c-0242ac19c003
LOCATION:FDF Eskilstrup\, Poppelvej 1A\, 4863 Eskilstrup
END:VEVENT
END:VCALENDAR
