BEGIN:VCALENDAR
VERSION:2.0
PRODID:SG Member / Odoo / icalendar
BEGIN:VEVENT
SUMMARY:Betaling af kursus mv.
DTSTART:20221231T080000Z
DTEND:20271231T180000Z
DTSTAMP:20260421T051704Z
UID:1852@35ae5294-5f86-11ee-906c-0242ac19c003
LOCATION:FDF Frederikshavn 1\, Bornholms Alle 2\, 9900 Frederikshavn
END:VEVENT
END:VCALENDAR
