BEGIN:VCALENDAR
VERSION:2.0
PRODID:SG Member / Odoo / icalendar
BEGIN:VEVENT
SUMMARY:Pioner-Panik (på den gode måde )
DTSTART:20260529T170000Z
DTEND:20260531T120000Z
DTSTAMP:20260420T093516Z
UID:31231@35ae5294-5f86-11ee-906c-0242ac19c003
DESCRIPTION:På lejren skal vi have genopfrisker knob og besnøringer ved 
 bygge og afprøve pioner konstruktioner så i er klar til landslejr så i 
 kan få lavet en mega fed lejr til juli og vigtigst af alt skal vi have de
 t sjovt sammen. pakkeliste Tøj til at være ude som godt må blive besk
 idt Sovepose og liggeunderlagArbejdshandsker (hvis du har og bruger dem t
 il pionering)drikkedunkgodt humør 
LOCATION:FDF Bjerringbro\, Skovparken 1\, 8850 Bjerringbro
END:VEVENT
END:VCALENDAR
